BEGIN:VCALENDAR
VERSION:2.0
PRODID:-//Ambulanter Hospizdienst „Aufgefangen“ - ECPv6.3.7//NONSGML v1.0//EN
CALSCALE:GREGORIAN
METHOD:PUBLISH
X-ORIGINAL-URL:https://aufgefangen.de
X-WR-CALDESC:Veranstaltungen für Ambulanter Hospizdienst „Aufgefangen“
REFRESH-INTERVAL;VALUE=DURATION:PT1H
X-Robots-Tag:noindex
X-PUBLISHED-TTL:PT1H
BEGIN:VTIMEZONE
TZID:Europe/Berlin
BEGIN:DAYLIGHT
TZOFFSETFROM:+0100
TZOFFSETTO:+0200
TZNAME:CEST
DTSTART:20210328T010000
END:DAYLIGHT
BEGIN:STANDARD
TZOFFSETFROM:+0200
TZOFFSETTO:+0100
TZNAME:CET
DTSTART:20211031T010000
END:STANDARD
END:VTIMEZONE
BEGIN:VEVENT
DTSTART;TZID=Europe/Berlin:20210902T160000
DTEND;TZID=Europe/Berlin:20210902T180000
DTSTAMP:20260419T152211
CREATED:20210603T083615Z
LAST-MODIFIED:20210603T083615Z
UID:9071-1630598400-1630605600@aufgefangen.de
SUMMARY:Kinder-Fuchsbaugruppe
DESCRIPTION:
URL:https://aufgefangen.de/veranstaltung/kinder-fuchsbaugruppe-13/
LOCATION:Kulturfabrik Krawatte\, Egestorfer Str. 28\, Barsinghausen\, 30890
END:VEVENT
BEGIN:VEVENT
DTSTART;TZID=Europe/Berlin:20210902T183000
DTEND;TZID=Europe/Berlin:20210902T200000
DTSTAMP:20260419T152211
CREATED:20210511T080202Z
LAST-MODIFIED:20210511T080202Z
UID:8825-1630607400-1630612800@aufgefangen.de
SUMMARY:Supervision Hospizgruppe Bärbel
DESCRIPTION:
URL:https://aufgefangen.de/veranstaltung/supervision-hospizgruppe-baerbel-13/
LOCATION:Kulturfabrik Krawatte\, Egestorfer Str. 28\, Barsinghausen\, 30890
END:VEVENT
BEGIN:VEVENT
DTSTART;TZID=Europe/Berlin:20210903T160000
DTEND;TZID=Europe/Berlin:20210903T180000
DTSTAMP:20260419T152211
CREATED:20210531T085336Z
LAST-MODIFIED:20210531T085336Z
UID:8950-1630684800-1630692000@aufgefangen.de
SUMMARY:Teenie-Fuchsbaugruppe
DESCRIPTION:
URL:https://aufgefangen.de/veranstaltung/teenie-fuchsbaugruppe-15/
LOCATION:Kulturfabrik Krawatte\, Egestorfer Str. 28\, Barsinghausen\, 30890
END:VEVENT
BEGIN:VEVENT
DTSTART;TZID=Europe/Berlin:20210903T190000
DTEND;TZID=Europe/Berlin:20210903T200000
DTSTAMP:20260419T152211
CREATED:20210902T134125Z
LAST-MODIFIED:20210902T135459Z
UID:9180-1630695600-1630699200@aufgefangen.de
SUMMARY:Vernissage Bildausstellung "Chaos in meinem Herzen"
DESCRIPTION:weitere Infos: ka:Punkt
URL:https://aufgefangen.de/veranstaltung/vernissage-bildausstellung-chaos-in-meinem-herzen/
END:VEVENT
BEGIN:VEVENT
DTSTART;TZID=Europe/Berlin:20210904T100000
DTEND;TZID=Europe/Berlin:20210904T170000
DTSTAMP:20260419T152211
CREATED:20201023T125635Z
LAST-MODIFIED:20210720T124810Z
UID:8424-1630749600-1630774800@aufgefangen.de
SUMMARY:RESILIENZ-Fortbildung für ehrenamtliche Mitarbeitende
DESCRIPTION:Vertrauen Sie Ihrer eigenen Stärke und arbeiten Sie an dem Glauben an sich selbst. Verwandeln Sie Belastung in positive Energie. Das Seminar zielt auf die persönlichen Bedürfnisse der Teilnehmer/innen ab und macht sich auf die Suche nach Ihren individuellen Schlüsseln\, um in den entscheidenden Situationen ruhig und gelassen zu bleiben. Sie schärfen die Wahrnehmung für sich selbst und übernehmen Verantwortung für Ihr eigenes Handeln. \nNähere Infos dazu unter Tel. 05105-5825114 \n 
URL:https://aufgefangen.de/veranstaltung/resilienz-fortbildung-fuchsbauteam/
LOCATION:Kulturfabrik Krawatte\, Egestorfer Str. 28\, Barsinghausen\, 30890
END:VEVENT
BEGIN:VEVENT
DTSTART;TZID=Europe/Berlin:20210905T150000
DTEND;TZID=Europe/Berlin:20210905T170000
DTSTAMP:20260419T152211
CREATED:20210531T083032Z
LAST-MODIFIED:20210531T083032Z
UID:8903-1630854000-1630861200@aufgefangen.de
SUMMARY:Café im Lebenshaus – Zeit für Trauernde
DESCRIPTION:
URL:https://aufgefangen.de/veranstaltung/cafe-im-lebenshaus-zeit-fuer-trauernde-27/
LOCATION:Kulturfabrik Krawatte\, Egestorfer Str. 28\, Barsinghausen\, 30890
END:VEVENT
BEGIN:VEVENT
DTSTART;TZID=Europe/Berlin:20210906T160000
DTEND;TZID=Europe/Berlin:20210906T173000
DTSTAMP:20260419T152211
CREATED:20210531T082522Z
LAST-MODIFIED:20210531T082522Z
UID:8886-1630944000-1630949400@aufgefangen.de
SUMMARY:Eltern-Fuchsbaugruppe
DESCRIPTION:
URL:https://aufgefangen.de/veranstaltung/eltern-fuchsbaugruppe-3/
LOCATION:Kulturfabrik Krawatte\, Egestorfer Str. 28\, Barsinghausen\, 30890
END:VEVENT
BEGIN:VEVENT
DTSTART;TZID=Europe/Berlin:20210907T160000
DTEND;TZID=Europe/Berlin:20210907T180000
DTSTAMP:20260419T152211
CREATED:20210531T084545Z
LAST-MODIFIED:20210531T084545Z
UID:8922-1631030400-1631037600@aufgefangen.de
SUMMARY:Mini-Fuchsbaugruppe
DESCRIPTION:
URL:https://aufgefangen.de/veranstaltung/mini-fuchsbaugruppe-8/
LOCATION:Kulturfabrik Krawatte\, Egestorfer Str. 28\, Barsinghausen\, 30890
END:VEVENT
BEGIN:VEVENT
DTSTART;TZID=Europe/Berlin:20210907T183000
DTEND;TZID=Europe/Berlin:20210907T210000
DTSTAMP:20260419T152211
CREATED:20210603T074821Z
LAST-MODIFIED:20210603T074821Z
UID:9004-1631039400-1631048400@aufgefangen.de
SUMMARY:Weiterbildung "Sterbende Menschen begleiten"
DESCRIPTION:Nach dem Einführungsseminar “Sterbende Menschen begleiten” folgt eine einjährige Weiterbildung. \n\n\n\n\nDiese enthält drei konstituierende Elemente: \n\nAuseinandersetzung mit der eigenen Erfahrung mit Krankheit\, Sterben\, Tod und Trauer\nVermittlung von grundlegendem Wissen\nÜbungen zur Beratungs- und Handlungskompetenz in der Hospizarbeit
URL:https://aufgefangen.de/veranstaltung/weiterbildung-sterbende-menschen-begleiten/
LOCATION:Kulturfabrik Krawatte\, Egestorfer Str. 28\, Barsinghausen\, 30890
END:VEVENT
BEGIN:VEVENT
DTSTART;TZID=Europe/Berlin:20210910T160000
DTEND;TZID=Europe/Berlin:20210910T180000
DTSTAMP:20260419T152211
CREATED:20210603T080342Z
LAST-MODIFIED:20210603T080342Z
UID:9039-1631289600-1631296800@aufgefangen.de
SUMMARY:Jugend-Fuchsbaugruppe
DESCRIPTION:
URL:https://aufgefangen.de/veranstaltung/jugend-fuchsbaugruppe-2/
LOCATION:Kulturfabrik Krawatte\, Egestorfer Str. 28\, Barsinghausen\, 30890
END:VEVENT
BEGIN:VEVENT
DTSTART;TZID=Europe/Berlin:20210914T160000
DTEND;TZID=Europe/Berlin:20210914T180000
DTSTAMP:20260419T152211
CREATED:20210603T080013Z
LAST-MODIFIED:20210603T080013Z
UID:9027-1631635200-1631642400@aufgefangen.de
SUMMARY:Kinder-Fuchsbaugruppe
DESCRIPTION:
URL:https://aufgefangen.de/veranstaltung/kinder-fuchsbaugruppe-7/
LOCATION:Kulturfabrik Krawatte\, Egestorfer Str. 28\, Barsinghausen\, 30890
END:VEVENT
BEGIN:VEVENT
DTSTART;TZID=Europe/Berlin:20210914T183000
DTEND;TZID=Europe/Berlin:20210914T203000
DTSTAMP:20260419T152211
CREATED:20201027T110818Z
LAST-MODIFIED:20210211T105906Z
UID:8456-1631644200-1631651400@aufgefangen.de
SUMMARY:Supervision Hospizgruppe Cornelia
DESCRIPTION:
URL:https://aufgefangen.de/veranstaltung/supervision-hospizgruppe-conny-11/
LOCATION:Kulturfabrik Krawatte\, Egestorfer Str. 28\, Barsinghausen\, 30890
END:VEVENT
BEGIN:VEVENT
DTSTART;TZID=Europe/Berlin:20210916T160000
DTEND;TZID=Europe/Berlin:20210916T180000
DTSTAMP:20260419T152211
CREATED:20210531T085001Z
LAST-MODIFIED:20210531T085018Z
UID:8937-1631808000-1631815200@aufgefangen.de
SUMMARY:Kinder-Fuchsbaugruppe
DESCRIPTION:
URL:https://aufgefangen.de/veranstaltung/kinder-fuchsbaugruppe/
LOCATION:Kulturfabrik Krawatte\, Egestorfer Str. 28\, Barsinghausen\, 30890
END:VEVENT
BEGIN:VEVENT
DTSTART;TZID=Europe/Berlin:20210916T183000
DTEND;TZID=Europe/Berlin:20210916T203000
DTSTAMP:20260419T152211
CREATED:20210518T121246Z
LAST-MODIFIED:20210518T121246Z
UID:8853-1631817000-1631824200@aufgefangen.de
SUMMARY:Supervision Hospizgruppe Claudia
DESCRIPTION:
URL:https://aufgefangen.de/veranstaltung/supervision-hospizgruppe-claudia-15/
END:VEVENT
BEGIN:VEVENT
DTSTART;TZID=Europe/Berlin:20210917T160000
DTEND;TZID=Europe/Berlin:20210917T180000
DTSTAMP:20260419T152211
CREATED:20210531T085401Z
LAST-MODIFIED:20210531T085401Z
UID:8952-1631894400-1631901600@aufgefangen.de
SUMMARY:Teenie-Fuchsbaugruppe
DESCRIPTION:
URL:https://aufgefangen.de/veranstaltung/teenie-fuchsbaugruppe-16/
LOCATION:Kulturfabrik Krawatte\, Egestorfer Str. 28\, Barsinghausen\, 30890
END:VEVENT
BEGIN:VEVENT
DTSTART;TZID=Europe/Berlin:20210918T100000
DTEND;TZID=Europe/Berlin:20210918T170000
DTSTAMP:20260419T152211
CREATED:20210720T124854Z
LAST-MODIFIED:20210720T124854Z
UID:9148-1631959200-1631984400@aufgefangen.de
SUMMARY:RESILIENZ-Fortbildung für ehrenamtliche Mitarbeitende
DESCRIPTION:Vertrauen Sie Ihrer eigenen Stärke und arbeiten Sie an dem Glauben an sich selbst. Verwandeln Sie Belastung in positive Energie. Das Seminar zielt auf die persönlichen Bedürfnisse der Teilnehmer/innen ab und macht sich auf die Suche nach Ihren individuellen Schlüsseln\, um in den entscheidenden Situationen ruhig und gelassen zu bleiben. Sie schärfen die Wahrnehmung für sich selbst und übernehmen Verantwortung für Ihr eigenes Handeln. \nNähere Infos dazu unter Tel. 05105-5825114 \n 
URL:https://aufgefangen.de/veranstaltung/resilienz-fortbildung-fuer-ehrenamtliche-mitarbeitende/
LOCATION:Kulturfabrik Krawatte\, Egestorfer Str. 28\, Barsinghausen\, 30890
END:VEVENT
BEGIN:VEVENT
DTSTART;TZID=Europe/Berlin:20210919T150000
DTEND;TZID=Europe/Berlin:20210919T170000
DTSTAMP:20260419T152211
CREATED:20210531T083057Z
LAST-MODIFIED:20210531T083057Z
UID:8905-1632063600-1632070800@aufgefangen.de
SUMMARY:Café im Lebenshaus – Zeit für Trauernde
DESCRIPTION:
URL:https://aufgefangen.de/veranstaltung/cafe-im-lebenshaus-zeit-fuer-trauernde-28/
LOCATION:Kulturfabrik Krawatte\, Egestorfer Str. 28\, Barsinghausen\, 30890
END:VEVENT
BEGIN:VEVENT
DTSTART;TZID=Europe/Berlin:20210921T160000
DTEND;TZID=Europe/Berlin:20210921T180000
DTSTAMP:20260419T152211
CREATED:20210531T084612Z
LAST-MODIFIED:20210531T084612Z
UID:8924-1632240000-1632247200@aufgefangen.de
SUMMARY:Mini-Fuchsbaugruppe
DESCRIPTION:
URL:https://aufgefangen.de/veranstaltung/mini-fuchsbaugruppe-9/
LOCATION:Kulturfabrik Krawatte\, Egestorfer Str. 28\, Barsinghausen\, 30890
END:VEVENT
BEGIN:VEVENT
DTSTART;TZID=Europe/Berlin:20210921T180000
DTEND;TZID=Europe/Berlin:20210921T190000
DTSTAMP:20260419T152211
CREATED:20210603T084839Z
LAST-MODIFIED:20210603T084839Z
UID:9089-1632247200-1632250800@aufgefangen.de
SUMMARY:Männer-Trauergruppe
DESCRIPTION:
URL:https://aufgefangen.de/veranstaltung/maenner-trauergruppe-9/
LOCATION:Kulturfabrik Krawatte\, Egestorfer Str. 28\, Barsinghausen\, 30890
END:VEVENT
BEGIN:VEVENT
DTSTART;TZID=Europe/Berlin:20210921T183000
DTEND;TZID=Europe/Berlin:20210921T210000
DTSTAMP:20260419T152211
CREATED:20210603T074852Z
LAST-MODIFIED:20210603T074852Z
UID:9006-1632249000-1632258000@aufgefangen.de
SUMMARY:Weiterbildung "Sterbende Menschen begleiten"
DESCRIPTION:Nach dem Einführungsseminar “Sterbende Menschen begleiten” folgt eine einjährige Weiterbildung. \n\n\n\n\nDiese enthält drei konstituierende Elemente: \n\nAuseinandersetzung mit der eigenen Erfahrung mit Krankheit\, Sterben\, Tod und Trauer\nVermittlung von grundlegendem Wissen\nÜbungen zur Beratungs- und Handlungskompetenz in der Hospizarbeit
URL:https://aufgefangen.de/veranstaltung/weiterbildung-sterbende-menschen-begleiten-2/
LOCATION:Kulturfabrik Krawatte\, Egestorfer Str. 28\, Barsinghausen\, 30890
END:VEVENT
BEGIN:VEVENT
DTSTART;TZID=Europe/Berlin:20210923T183000
DTEND;TZID=Europe/Berlin:20210923T203000
DTSTAMP:20260419T152211
CREATED:20210518T120937Z
LAST-MODIFIED:20210518T120937Z
UID:8841-1632421800-1632429000@aufgefangen.de
SUMMARY:Supervision Hospizgruppe Katja
DESCRIPTION:
URL:https://aufgefangen.de/veranstaltung/supervision-hospizgruppe-katja-5/
END:VEVENT
BEGIN:VEVENT
DTSTART;TZID=Europe/Berlin:20210924T160000
DTEND;TZID=Europe/Berlin:20210924T180000
DTSTAMP:20260419T152211
CREATED:20210603T080656Z
LAST-MODIFIED:20210603T080656Z
UID:9042-1632499200-1632506400@aufgefangen.de
SUMMARY:Jugend-Fuchsbaugruppe
DESCRIPTION:
URL:https://aufgefangen.de/veranstaltung/jugend-fuchsbaugruppe-3/
LOCATION:Kulturfabrik Krawatte\, Egestorfer Str. 28\, Barsinghausen\, 30890
END:VEVENT
BEGIN:VEVENT
DTSTART;TZID=Europe/Berlin:20210928T160000
DTEND;TZID=Europe/Berlin:20210928T180000
DTSTAMP:20260419T152211
CREATED:20210603T080045Z
LAST-MODIFIED:20210603T080045Z
UID:9029-1632844800-1632852000@aufgefangen.de
SUMMARY:Kinder-Fuchsbaugruppe
DESCRIPTION:
URL:https://aufgefangen.de/veranstaltung/kinder-fuchsbaugruppe-8/
LOCATION:Kulturfabrik Krawatte\, Egestorfer Str. 28\, Barsinghausen\, 30890
END:VEVENT
BEGIN:VEVENT
DTSTART;TZID=Europe/Berlin:20210928T183000
DTEND;TZID=Europe/Berlin:20210928T210000
DTSTAMP:20260419T152211
CREATED:20210603T081447Z
LAST-MODIFIED:20210603T081447Z
UID:9053-1632853800-1632862800@aufgefangen.de
SUMMARY:Supervision FuchsbauTeam
DESCRIPTION:
URL:https://aufgefangen.de/veranstaltung/supervision-fuchsbauteam/
LOCATION:Kulturfabrik Krawatte\, Egestorfer Str. 28\, Barsinghausen\, 30890
END:VEVENT
BEGIN:VEVENT
DTSTART;TZID=Europe/Berlin:20210929T190000
DTEND;TZID=Europe/Berlin:20210929T203000
DTSTAMP:20260419T152211
CREATED:20210908T095627Z
LAST-MODIFIED:20210908T095627Z
UID:9190-1632942000-1632947400@aufgefangen.de
SUMMARY:Mitgliederversammlung
DESCRIPTION:Wir bitten um Anmeldung: Telefon: 05105-5825114 oder Mail: hospizdienst@aufgefangen-ev.de \nEs gelten die 3-G-Hygienebestimmungen. Bitte betreten Sie das Haus mit Mund-Nasen-Schutz und durch den Seiteneingang. \nHerzlich willkommen!
URL:https://aufgefangen.de/veranstaltung/mitgliederversammlung-2/
LOCATION:Kulturfabrik Krawatte\, Egestorfer Str. 28\, Barsinghausen\, 30890
END:VEVENT
END:VCALENDAR