BEGIN:VCALENDAR
VERSION:2.0
PRODID:-//Ambulanter Hospizdienst „Aufgefangen“ - ECPv6.3.7//NONSGML v1.0//EN
CALSCALE:GREGORIAN
METHOD:PUBLISH
X-ORIGINAL-URL:https://aufgefangen.de
X-WR-CALDESC:Veranstaltungen für Ambulanter Hospizdienst „Aufgefangen“
REFRESH-INTERVAL;VALUE=DURATION:PT1H
X-Robots-Tag:noindex
X-PUBLISHED-TTL:PT1H
BEGIN:VTIMEZONE
TZID:Europe/Berlin
BEGIN:DAYLIGHT
TZOFFSETFROM:+0100
TZOFFSETTO:+0200
TZNAME:CEST
DTSTART:20210328T010000
END:DAYLIGHT
BEGIN:STANDARD
TZOFFSETFROM:+0200
TZOFFSETTO:+0100
TZNAME:CET
DTSTART:20211031T010000
END:STANDARD
END:VTIMEZONE
BEGIN:VEVENT
DTSTART;TZID=Europe/Berlin:20210801T150000
DTEND;TZID=Europe/Berlin:20210801T170000
DTSTAMP:20260419T164948
CREATED:20210531T082942Z
LAST-MODIFIED:20210531T082942Z
UID:8899-1627830000-1627837200@aufgefangen.de
SUMMARY:Café im Lebenshaus – Zeit für Trauernde
DESCRIPTION:
URL:https://aufgefangen.de/veranstaltung/cafe-im-lebenshaus-zeit-fuer-trauernde-16/
LOCATION:Kulturfabrik Krawatte\, Egestorfer Str. 28\, Barsinghausen\, 30890
END:VEVENT
BEGIN:VEVENT
DTSTART;TZID=Europe/Berlin:20210804T183000
DTEND;TZID=Europe/Berlin:20210804T200000
DTSTAMP:20260419T164948
CREATED:20210511T075633Z
LAST-MODIFIED:20210511T075633Z
UID:8822-1628101800-1628107200@aufgefangen.de
SUMMARY:Supervision Hospizgruppe Bärbel
DESCRIPTION:
URL:https://aufgefangen.de/veranstaltung/supervision-hospizgruppe-baerbel-2/
LOCATION:Kulturfabrik Krawatte\, Egestorfer Str. 28\, Barsinghausen\, 30890
END:VEVENT
BEGIN:VEVENT
DTSTART;TZID=Europe/Berlin:20210806T170000
DTEND;TZID=Europe/Berlin:20210806T210000
DTSTAMP:20260419T164948
CREATED:20210518T123633Z
LAST-MODIFIED:20210603T074109Z
UID:8864-1628269200-1628283600@aufgefangen.de
SUMMARY:Einführungsseminar "Sterbende Menschen begleiten"
DESCRIPTION:Auseinandersetzung mit der eigenen Erfahrung mit Krankheit\, Sterben\, Tod und Trauer. \nDie Teilnahme an dem Seminar verstehen wir nicht als Verpflichtung zur Trauerbegleitung\, sondern als einen ersten Schritt sich auf das Thema „Trauer\, Sterben\, Tod“ einzulassen und auf einem Weg\, dessen Ziel offen ist.
URL:https://aufgefangen.de/veranstaltung/einfuehrungsseminar-sterbende-menschen-begleiten/
LOCATION:Kulturfabrik Krawatte\, Egestorfer Str. 28\, Barsinghausen\, 30890
END:VEVENT
BEGIN:VEVENT
DTSTART;TZID=Europe/Berlin:20210807T100000
DTEND;TZID=Europe/Berlin:20210807T160000
DTSTAMP:20260419T164948
CREATED:20210518T123752Z
LAST-MODIFIED:20210603T074232Z
UID:8868-1628330400-1628352000@aufgefangen.de
SUMMARY:Einführungsseminar "Sterbende Menschen begleiten"
DESCRIPTION:Auseinandersetzung mit der eigenen Erfahrung mit Krankheit\, Sterben\, Tod und Trauer. \nDie Teilnahme an dem Seminar verstehen wir nicht als Verpflichtung zur Trauerbegleitung\, sondern als einen ersten Schritt sich auf das Thema „Trauer\, Sterben\, Tod“ einzulassen und auf einem Weg\, dessen Ziel offen ist.
URL:https://aufgefangen.de/veranstaltung/einfuehrungsseminar-sterbende-menschen-begleiten-3/
LOCATION:Kulturfabrik Krawatte\, Egestorfer Str. 28\, Barsinghausen\, 30890
END:VEVENT
BEGIN:VEVENT
DTSTART;TZID=Europe/Berlin:20210810T183000
DTEND;TZID=Europe/Berlin:20210810T203000
DTSTAMP:20260419T164948
CREATED:20201027T110737Z
LAST-MODIFIED:20210211T105938Z
UID:8454-1628620200-1628627400@aufgefangen.de
SUMMARY:Supervision Hospizgruppe Cornelia
DESCRIPTION:
URL:https://aufgefangen.de/veranstaltung/supervision-hospizgruppe-conny-10/
LOCATION:Kulturfabrik Krawatte\, Egestorfer Str. 28\, Barsinghausen\, 30890
END:VEVENT
BEGIN:VEVENT
DTSTART;TZID=Europe/Berlin:20210815T150000
DTEND;TZID=Europe/Berlin:20210815T170000
DTSTAMP:20260419T164948
CREATED:20210531T083008Z
LAST-MODIFIED:20210531T083008Z
UID:8901-1629039600-1629046800@aufgefangen.de
SUMMARY:Café im Lebenshaus – Zeit für Trauernde
DESCRIPTION:
URL:https://aufgefangen.de/veranstaltung/cafe-im-lebenshaus-zeit-fuer-trauernde-17/
LOCATION:Kulturfabrik Krawatte\, Egestorfer Str. 28\, Barsinghausen\, 30890
END:VEVENT
BEGIN:VEVENT
DTSTART;TZID=Europe/Berlin:20210817T180000
DTEND;TZID=Europe/Berlin:20210817T190000
DTSTAMP:20260419T164948
CREATED:20210603T084811Z
LAST-MODIFIED:20210603T084811Z
UID:9087-1629223200-1629226800@aufgefangen.de
SUMMARY:Männer-Trauergruppe
DESCRIPTION:
URL:https://aufgefangen.de/veranstaltung/maenner-trauergruppe-8/
LOCATION:Kulturfabrik Krawatte\, Egestorfer Str. 28\, Barsinghausen\, 30890
END:VEVENT
BEGIN:VEVENT
DTSTART;TZID=Europe/Berlin:20210819T183000
DTEND;TZID=Europe/Berlin:20210819T203000
DTSTAMP:20260419T164948
CREATED:20210518T121220Z
LAST-MODIFIED:20210518T121220Z
UID:8851-1629397800-1629405000@aufgefangen.de
SUMMARY:Supervision Hospizgruppe Claudia
DESCRIPTION:
URL:https://aufgefangen.de/veranstaltung/supervision-hospizgruppe-claudia-3/
END:VEVENT
BEGIN:VEVENT
DTSTART;TZID=Europe/Berlin:20210820T170000
DTEND;TZID=Europe/Berlin:20210820T210000
DTSTAMP:20260419T164949
CREATED:20210518T123701Z
LAST-MODIFIED:20210603T074337Z
UID:8866-1629478800-1629493200@aufgefangen.de
SUMMARY:Einführungsseminar "Sterbende Menschen begleiten"
DESCRIPTION:Auseinandersetzung mit der eigenen Erfahrung mit Krankheit\, Sterben\, Tod und Trauer. \nDie Teilnahme an dem Seminar verstehen wir nicht als Verpflichtung zur Trauerbegleitung\, sondern als einen ersten Schritt sich auf das Thema „Trauer\, Sterben\, Tod“ einzulassen und auf einem Weg\, dessen Ziel offen ist.
URL:https://aufgefangen.de/veranstaltung/einfuehrungsseminar-sterbende-menschen-begleiten-2/
LOCATION:Kulturfabrik Krawatte\, Egestorfer Str. 28\, Barsinghausen\, 30890
END:VEVENT
BEGIN:VEVENT
DTSTART;TZID=Europe/Berlin:20210821T100000
DTEND;TZID=Europe/Berlin:20210821T160000
DTSTAMP:20260419T164949
CREATED:20210518T123818Z
LAST-MODIFIED:20210603T074434Z
UID:8870-1629540000-1629561600@aufgefangen.de
SUMMARY:Einführungsseminar "Sterbende Menschen begleiten"
DESCRIPTION:Auseinandersetzung mit der eigenen Erfahrung mit Krankheit\, Sterben\, Tod und Trauer. \nDie Teilnahme an dem Seminar verstehen wir nicht als Verpflichtung zur Trauerbegleitung\, sondern als einen ersten Schritt sich auf das Thema „Trauer\, Sterben\, Tod“ einzulassen und auf einem Weg\, dessen Ziel offen ist.
URL:https://aufgefangen.de/veranstaltung/einfuehrungsseminar-sterbende-menschen-begleiten-4/
LOCATION:Kulturfabrik Krawatte\, Egestorfer Str. 28\, Barsinghausen\, 30890
END:VEVENT
BEGIN:VEVENT
DTSTART;TZID=Europe/Berlin:20210826T183000
DTEND;TZID=Europe/Berlin:20210826T203000
DTSTAMP:20260419T164949
CREATED:20210518T120910Z
LAST-MODIFIED:20210518T120910Z
UID:8839-1630002600-1630009800@aufgefangen.de
SUMMARY:Supervision Hospizgruppe Katja
DESCRIPTION:
URL:https://aufgefangen.de/veranstaltung/supervision-hospizgruppe-katja-4/
END:VEVENT
BEGIN:VEVENT
DTSTART;TZID=Europe/Berlin:20210830T150000
DTEND;TZID=Europe/Berlin:20210830T170000
DTSTAMP:20260419T164949
CREATED:20210603T083105Z
LAST-MODIFIED:20210603T083308Z
UID:9068-1630335600-1630342800@aufgefangen.de
SUMMARY:Ferienpassaktion
DESCRIPTION:Erinnerungsschatzkisten gestalten für liebe Verstorbene. Die gestalteten Kisten sollen nicht leer bleiben\, sondern gefüllt werden mit Erinnerungen\, Gedanken\, Gefühlen\, Notizen\, Fotos\, Materialien … die an einen lieben Menschen erinnern.\nTrauern und erinnern ist bunt\, so bunt und glitzernd wie Erinnerungsschatzkisten.
URL:https://aufgefangen.de/veranstaltung/ferienpassaktion-3/
LOCATION:Kulturfabrik Krawatte\, Egestorfer Str. 28\, Barsinghausen\, 30890
END:VEVENT
END:VCALENDAR