BEGIN:VCALENDAR
VERSION:2.0
PRODID:-//Ambulanter Hospizdienst „Aufgefangen“ - ECPv6.3.7//NONSGML v1.0//EN
CALSCALE:GREGORIAN
METHOD:PUBLISH
X-WR-CALNAME:Ambulanter Hospizdienst „Aufgefangen“
X-ORIGINAL-URL:https://aufgefangen.de
X-WR-CALDESC:Veranstaltungen für Ambulanter Hospizdienst „Aufgefangen“
REFRESH-INTERVAL;VALUE=DURATION:PT1H
X-Robots-Tag:noindex
X-PUBLISHED-TTL:PT1H
BEGIN:VTIMEZONE
TZID:Europe/Berlin
BEGIN:DAYLIGHT
TZOFFSETFROM:+0100
TZOFFSETTO:+0200
TZNAME:CEST
DTSTART:20210328T010000
END:DAYLIGHT
BEGIN:STANDARD
TZOFFSETFROM:+0200
TZOFFSETTO:+0100
TZNAME:CET
DTSTART:20211031T010000
END:STANDARD
END:VTIMEZONE
BEGIN:VEVENT
DTSTART;TZID=Europe/Berlin:20210904T100000
DTEND;TZID=Europe/Berlin:20210904T170000
DTSTAMP:20260419T164535
CREATED:20201023T125635Z
LAST-MODIFIED:20210720T124810Z
UID:8424-1630749600-1630774800@aufgefangen.de
SUMMARY:RESILIENZ-Fortbildung für ehrenamtliche Mitarbeitende
DESCRIPTION:Vertrauen Sie Ihrer eigenen Stärke und arbeiten Sie an dem Glauben an sich selbst. Verwandeln Sie Belastung in positive Energie. Das Seminar zielt auf die persönlichen Bedürfnisse der Teilnehmer/innen ab und macht sich auf die Suche nach Ihren individuellen Schlüsseln\, um in den entscheidenden Situationen ruhig und gelassen zu bleiben. Sie schärfen die Wahrnehmung für sich selbst und übernehmen Verantwortung für Ihr eigenes Handeln. \nNähere Infos dazu unter Tel. 05105-5825114 \n 
URL:https://aufgefangen.de/veranstaltung/resilienz-fortbildung-fuchsbauteam/
LOCATION:Kulturfabrik Krawatte\, Egestorfer Str. 28\, Barsinghausen\, 30890
END:VEVENT
END:VCALENDAR