BEGIN:VCALENDAR
VERSION:2.0
PRODID:-//Ambulanter Hospizdienst „Aufgefangen“ - ECPv6.3.7//NONSGML v1.0//EN
CALSCALE:GREGORIAN
METHOD:PUBLISH
X-WR-CALNAME:Ambulanter Hospizdienst „Aufgefangen“
X-ORIGINAL-URL:https://aufgefangen.de
X-WR-CALDESC:Veranstaltungen für Ambulanter Hospizdienst „Aufgefangen“
REFRESH-INTERVAL;VALUE=DURATION:PT1H
X-Robots-Tag:noindex
X-PUBLISHED-TTL:PT1H
BEGIN:VTIMEZONE
TZID:Europe/Berlin
BEGIN:DAYLIGHT
TZOFFSETFROM:+0100
TZOFFSETTO:+0200
TZNAME:CEST
DTSTART:20210328T010000
END:DAYLIGHT
BEGIN:STANDARD
TZOFFSETFROM:+0200
TZOFFSETTO:+0100
TZNAME:CET
DTSTART:20211031T010000
END:STANDARD
END:VTIMEZONE
BEGIN:VEVENT
DTSTART;TZID=Europe/Berlin:20210820T170000
DTEND;TZID=Europe/Berlin:20210820T210000
DTSTAMP:20260419T193208
CREATED:20210518T123701Z
LAST-MODIFIED:20210603T074337Z
UID:8866-1629478800-1629493200@aufgefangen.de
SUMMARY:Einführungsseminar "Sterbende Menschen begleiten"
DESCRIPTION:Auseinandersetzung mit der eigenen Erfahrung mit Krankheit\, Sterben\, Tod und Trauer. \nDie Teilnahme an dem Seminar verstehen wir nicht als Verpflichtung zur Trauerbegleitung\, sondern als einen ersten Schritt sich auf das Thema „Trauer\, Sterben\, Tod“ einzulassen und auf einem Weg\, dessen Ziel offen ist.
URL:https://aufgefangen.de/veranstaltung/einfuehrungsseminar-sterbende-menschen-begleiten-2/
LOCATION:Kulturfabrik Krawatte\, Egestorfer Str. 28\, Barsinghausen\, 30890
END:VEVENT
END:VCALENDAR