BEGIN:VCALENDAR
VERSION:2.0
PRODID:-//Ambulanter Hospizdienst „Aufgefangen“ - ECPv6.3.7//NONSGML v1.0//EN
CALSCALE:GREGORIAN
METHOD:PUBLISH
X-WR-CALNAME:Ambulanter Hospizdienst „Aufgefangen“
X-ORIGINAL-URL:https://aufgefangen.de
X-WR-CALDESC:Veranstaltungen für Ambulanter Hospizdienst „Aufgefangen“
REFRESH-INTERVAL;VALUE=DURATION:PT1H
X-Robots-Tag:noindex
X-PUBLISHED-TTL:PT1H
BEGIN:VTIMEZONE
TZID:Europe/Berlin
BEGIN:DAYLIGHT
TZOFFSETFROM:+0100
TZOFFSETTO:+0200
TZNAME:CEST
DTSTART:20210328T010000
END:DAYLIGHT
BEGIN:STANDARD
TZOFFSETFROM:+0200
TZOFFSETTO:+0100
TZNAME:CET
DTSTART:20211031T010000
END:STANDARD
END:VTIMEZONE
BEGIN:VEVENT
DTSTART;TZID=Europe/Berlin:20210715T160000
DTEND;TZID=Europe/Berlin:20210715T180000
DTSTAMP:20260420T205221
CREATED:20201023T121712Z
LAST-MODIFIED:20201023T121712Z
UID:8347-1626364800-1626372000@aufgefangen.de
SUMMARY:Kinder-Fuchsbaugruppe
DESCRIPTION:
URL:https://aufgefangen.de/veranstaltung/kinder-fuchsbaugruppe-85/
LOCATION:Kulturfabrik Krawatte\, Egestorfer Str. 28\, Barsinghausen\, 30890
END:VEVENT
BEGIN:VEVENT
DTSTART;TZID=Europe/Berlin:20210715T183000
DTEND;TZID=Europe/Berlin:20210715T203000
DTSTAMP:20260420T205221
CREATED:20210518T121155Z
LAST-MODIFIED:20210518T121155Z
UID:8849-1626373800-1626381000@aufgefangen.de
SUMMARY:Supervision Hospizgruppe Claudia
DESCRIPTION:
URL:https://aufgefangen.de/veranstaltung/supervision-hospizgruppe-claudia-2/
END:VEVENT
END:VCALENDAR