BEGIN:VCALENDAR
VERSION:2.0
PRODID:-//Ambulanter Hospizdienst „Aufgefangen“ - ECPv6.3.7//NONSGML v1.0//EN
CALSCALE:GREGORIAN
METHOD:PUBLISH
X-ORIGINAL-URL:https://aufgefangen.de
X-WR-CALDESC:Veranstaltungen für Ambulanter Hospizdienst „Aufgefangen“
REFRESH-INTERVAL;VALUE=DURATION:PT1H
X-Robots-Tag:noindex
X-PUBLISHED-TTL:PT1H
BEGIN:VTIMEZONE
TZID:Europe/Berlin
BEGIN:DAYLIGHT
TZOFFSETFROM:+0100
TZOFFSETTO:+0200
TZNAME:CEST
DTSTART:20210328T010000
END:DAYLIGHT
BEGIN:STANDARD
TZOFFSETFROM:+0200
TZOFFSETTO:+0100
TZNAME:CET
DTSTART:20211031T010000
END:STANDARD
END:VTIMEZONE
BEGIN:VEVENT
DTSTART;TZID=Europe/Berlin:20210608T160000
DTEND;TZID=Europe/Berlin:20210608T180000
DTSTAMP:20260422T030745
CREATED:20201023T121140Z
LAST-MODIFIED:20201023T121140Z
UID:8332-1623168000-1623175200@aufgefangen.de
SUMMARY:Kinder-Fuchsbaugruppe
DESCRIPTION:
URL:https://aufgefangen.de/veranstaltung/kinder-fuchsbaugruppe-78/
LOCATION:Kulturfabrik Krawatte\, Egestorfer Str. 28\, Barsinghausen\, 30890
END:VEVENT
BEGIN:VEVENT
DTSTART;TZID=Europe/Berlin:20210608T183000
DTEND;TZID=Europe/Berlin:20210608T203000
DTSTAMP:20260422T030745
CREATED:20201027T110614Z
LAST-MODIFIED:20210211T110319Z
UID:8450-1623177000-1623184200@aufgefangen.de
SUMMARY:Supervision Hospizgruppe Cornelia
DESCRIPTION:
URL:https://aufgefangen.de/veranstaltung/supervision-hospizgruppe-conny-8/
LOCATION:Kulturfabrik Krawatte\, Egestorfer Str. 28\, Barsinghausen\, 30890
END:VEVENT
END:VCALENDAR